BEGIN:VCALENDAR
VERSION:2.0
PRODID:icalendar-ruby
CALSCALE:GREGORIAN
METHOD:PUBLISH
BEGIN:VEVENT
DTSTAMP:20260421T052918Z
UID:63-844919@revealchurchpd.com
DTSTART:20261018T170000Z
DTEND:20261018T183000Z
CLASS:PUBLIC
CREATED:20260420T172642
DESCRIPTION:Please join us on Sundays for Fellowship\, Worship\, and Word. 
 Every week\, we worship together\, study God's Word together\, pray togeth
 er and take communion together. \nThe whole family is welcome and kids ar
 e encouraged to participate in the service with us. We even have a special
  bulletin just for them that has a weekly memory verse\, coloring sheets\,
  word searches\, crossword puzzles and more pertaining to the message. Kid
 s who listen and write down what they learned can pick a prize out of the 
 treasure box. They can even earn an extra prize for knowing the memory ver
 se from the week before. \nBecause our service is at a house\, the atmosp
 here is relaxed and hopefully a place all feel safe and comfortable to wor
 ship God. Our music is modern\, our teaching is straight from the Bible an
 d our family loves to pray with each other. \nIf you have any questions r
 egarding the church or our services please reach out. Life@revealchurchpd.
 com or even shoot a text to 442-224-3355. 
LAST-MODIFIED:20260420T172642
LOCATION:Pastor Jason's
SUMMARY:Sunday Service
URL;VALUE=URI:https://www.revealchurchpd.com/events/sunday-service--63/2026
 -10-18
ATTACH;FILENAME=SUNDAY-SERVICE-WEB-LOGO.png;FMTTYPE=image/png:https://dq5pw
 pg1q8ru0.cloudfront.net/2025/05/06/22/07/34/67a086ee-f582-4e56-ac35-c88a19
 db123d/SUNDAY-SERVICE-WEB-LOGO.png
END:VEVENT
END:VCALENDAR
